BEGIN:VCALENDAR
VERSION:2.0
PRODID:-//Oasis Cruising - ECPv6.15.20//NONSGML v1.0//EN
CALSCALE:GREGORIAN
METHOD:PUBLISH
X-ORIGINAL-URL:https://oasiscruising.com.au
X-WR-CALDESC:Events for Oasis Cruising
REFRESH-INTERVAL;VALUE=DURATION:PT1H
X-Robots-Tag:noindex
X-PUBLISHED-TTL:PT1H
BEGIN:VTIMEZONE
TZID:Australia/Brisbane
BEGIN:STANDARD
TZOFFSETFROM:+1000
TZOFFSETTO:+1000
TZNAME:AEST
DTSTART:20250101T000000
END:STANDARD
END:VTIMEZONE
BEGIN:VEVENT
DTSTART;TZID=Australia/Brisbane:20260509T123000
DTEND;TZID=Australia/Brisbane:20260509T170000
DTSTAMP:20260420T190124
CREATED:20260118T165529Z
LAST-MODIFIED:20260420T061724Z
UID:8463-1778329800-1778346000@oasiscruising.com.au
SUMMARY:OASIS Saturdays - Afternoon Boat Party - Saturday\, 9th of May 2026
DESCRIPTION:OASIS SATURDAYS – the ultimate afternoon boat party where friends\, music\, and drinks come together for the perfect weekend escape.\n\n\nJoin us onboard OASIS — Brisbane’s ultimate floating playground\, and drift straight into your weekend. Sunshine on your skin\, cocktails in hand\, music in the air\, and the city slowly sliding by… this is where Saturdays come alive. This is YOUR Oasis. \nFrom the moment you board\, it’s all about effortless good times. Dance across multiple decks\, settle in with a signature cocktail\, or float between the levels with friends as DJs set the tone with feel-good afternoon vibes. As the sun dips and golden hour hits\, the energy builds\, the views glow\, and the afternoon settles into its best moment. \nThis is one afternoon you don’t want to miss! \nWhat to expect onboard:? Multiple levels of non-stop entertainment? Resident DJs soundtracking every moment? Handcrafted signature cocktails? Fresh\, seasonal à la carte dining? Sun-soaked decks with a fully retractable awning? Breath-taking sunset and twilight views of Brisbane \nWhether you’re celebrating with friends\, warming up for a big night out\, or chasing that perfect golden-hour moment\, Oasis Saturdays is your escape within the city. Miss it\, and you’ll hear about it all week. \nThis is YOUR Oasis. \n\n\nTHE DETAILS / OASIS SATURDAYS \nWhen: Saturday\, 9th of May 2026 \nWhere: City Botanic Gardens River Hub \nArrive: 12:25pm \nBoarding: 12:30pm – 1:00pm  \nDisembark: 5:00pm  \n\n\n\nVIP TABLE BOOKINGS\nBook a private booth and take your OASIS experience to a whole new level\, with an exclusive space for you and your guests to enjoy. We have a number of VIP booths and packages available on all three levels of OASIS. \n \n6PAX $1\,400 VIP PACKAGE\n\n6 x Priority Boarding Tickets\nSignature Cocktail on Arrival\n1 x 700mL Belvedere Vodka\n1 x Moet Chandon Btl\n6 x Red Bulls\nUnlimited Mixers\nDedicated table\nVIP host\n\n \n10PAX $2\,200 VIP PACKAGE\n\n10 x Priority Boarding Tickets\nSignature cocktail on arrival\n2 x 700mL Belvedere Vodka\n1 x Moet Chandon Btl\n6 x Red Bulls\nUnlimited Mixers\nDedicated table\nVIP host\n\nPlease note\, there is an additional 10% Service charge applied to all table bookings \nFor VIP table package enquiries please email bookings@oasiscruising.com.au or call 07 3171 7800. \n\n\n\nBOOKINGS ESSENTIALS \nOASIS cruises are over 18’s events. Please ensure you have valid photo ID to produce on request. \nAll tickets are non-refundable. \nGeneral Admission Tickets (GA): \nFood can be purchased from our à La carte menu on board. Seating is limited and based on first-in\, first-served. You may purchase up to 10 tickets online at a time. All GA tickets are available up until 15 minutes before setting sail unless sold out. \nGA tickets allow you to move freely around the vessel\, subject to level capacity restrictions. \n\nGENERAL\nWe ask all guests to check the weather conditions and dress appropriately\, including appropriate footwear. \nSecurity reserve the right to refuse entry to any group or guest. \nFor further information or enquiries please email: bookings@oasiscruising.com.au
URL:https://oasiscruising.com.au/event/oasis-saturdays-afternoon-boat-party-saturday-9th-of-may-2026/
LOCATION:Oasis
ATTACH;FMTTYPE=image/jpeg:https://oasiscruising.com.au/wp-content/uploads/2026/01/httpscdnevbuccomimages117520925724447334982611original20260119-025705.avif
END:VEVENT
BEGIN:VEVENT
DTSTART;TZID=Australia/Brisbane:20260509T190000
DTEND;TZID=Australia/Brisbane:20260509T233000
DTSTAMP:20260420T190124
CREATED:20260120T175112Z
LAST-MODIFIED:20260420T080050Z
UID:8607-1778353200-1778369400@oasiscruising.com.au
SUMMARY:OASIS Retro Revolution. Dance through the decades  - Saturday 9th May
DESCRIPTION:Step aboard OASIS for an unforgettable night where timeless tunes meet iconic city views\n\n\n? OASIS RETRO REVOLUTION – Dance through the decades ? \nSaturday 9th May | Brisbane River | Boarding From the Botanic Garderns River Hub \nRetro Revolution is your passport to the past\, reimagined for the now — a multi-level experience celebrating the very best of dancefloor anthems and sing-along classics from decades gone by. \nFrom the golden era of disco to the club classics and pop bangers that shaped generations\, our DJs will guide you on a journey through sound\, rhythm\, and pure nostalgia — all set against the shimmering skyline. \nExpect a crowd that came to move\, moments that call for a chorus\, and a vibe that only Oasis can deliver. \nWhy You Should Join Us\n? Stunning City Views – Watch the city light up around you as we glide through the heart of Brisbane under the stars. \n? Signature Cocktails – Sip on stylish drinks crafted to help you unwind and celebrate in style. \n? Live DJ Entertainment – Dance across multiple levels to the ultimate blend of disco & club classics\, Pop\, and Party Anthems that shaped the decades of 80’s\, 90’s & 00’s\, keeping your Saturday night energy high from start to finish. \nAn unforgettable journey through the sound tracks that defined the generations – and still keeps us dancing all night today. \n\n\nTHE DETAILS / SATURDAY RETRO REVOLUTION \nWhen: Saturday 9th May\, 2026 \nWhere: Botanic Gardens River Hub \nArrive: 6:45pm \nBoarding: 7:00pm – 7:30pm  \nDisembark: 11:00pm  \n\n\n\nVIP TABLE BOOKINGS\nBook a private booth and take your OASIS experience to a whole new level\, with an exclusive space for you and your guests to enjoy. We have a number of VIP booths and packages available on all three levels of OASIS. \n \n6PAX $1\,400 VIP PACKAGE\n6 x Priority Boarding Tickets \nSignature Cocktail on Arrival \n1 x 700mL Belvedere Vodka \n1 x Moet Chandon Btl \n6 x Red Bulls \nUnlimited Mixers \nDedicated table \nVIP host \n \n10PAX $2\,200 VIP PACKAGE\n10 x Priority Boarding Tickets \nSignature cocktail on arrival \n2 x 700mL Belvedere Vodka \n1 x Moet Chandon Btl \n6 x Red Bulls \nUnlimited Mixers \nDedicated table \nVIP host \nPlease note\, there is an additional 10% Service charge applied to all table bookings \nFor VIP table package enquiries please email bookings@oasiscruising.com.au or call 07 3171 7800. \n\n\n\nBOOKINGS ESSENTIALS \nOASIS cruises are over 18’s events. Please ensure you have valid photo ID to produce on request. \nAll tickets are non-refundable. \nGeneral Admission Tickets (GA): \nFood can be purchased from our à La carte menu on board. Seating is limited and based on first-in\, first-served. You may purchase up to 10 tickets online at a time. All GA tickets are available up until 15 minutes before setting sail unless sold out. \nGA tickets allow you to move freely around the vessel\, subject to level capacity restrictions. \n\nGENERAL\nWe ask all guests to check the weather conditions and dress appropriately\, including appropriate footwear. \nSecurity reserve the right to refuse entry to any group or guest. \nFor further information or enquiries please email: bookings@oasiscruising.com.au
URL:https://oasiscruising.com.au/event/oasis-retro-revolution-dance-through-the-decades-saturday-9th-may/
LOCATION:Oasis
ATTACH;FMTTYPE=image/jpeg:https://oasiscruising.com.au/wp-content/uploads/2025/12/httpscdnevbuccomimages117295619524447334982611original20251215-014253.avif
END:VEVENT
END:VCALENDAR