BEGIN:VCALENDAR
VERSION:2.0
PRODID:-//Oasis Cruising - ECPv6.15.20//NONSGML v1.0//EN
CALSCALE:GREGORIAN
METHOD:PUBLISH
X-WR-CALNAME:Oasis Cruising
X-ORIGINAL-URL:https://oasiscruising.com.au
X-WR-CALDESC:Events for Oasis Cruising
REFRESH-INTERVAL;VALUE=DURATION:PT1H
X-Robots-Tag:noindex
X-PUBLISHED-TTL:PT1H
BEGIN:VTIMEZONE
TZID:Australia/Brisbane
BEGIN:STANDARD
TZOFFSETFROM:+1000
TZOFFSETTO:+1000
TZNAME:AEST
DTSTART:20250101T000000
END:STANDARD
END:VTIMEZONE
BEGIN:VEVENT
DTSTART;TZID=Australia/Brisbane:20260516T123000
DTEND;TZID=Australia/Brisbane:20260516T170000
DTSTAMP:20260420T185859
CREATED:20260118T165931Z
LAST-MODIFIED:20260420T083416Z
UID:8465-1778934600-1778950800@oasiscruising.com.au
SUMMARY:OASIS Saturdays - Afternoon Boat Party - Saturday\, 16th of May 2026
DESCRIPTION:OASIS SATURDAYS – the ultimate afternoon boat party where friends\, music\, and drinks come together for the perfect weekend escape.\n\n\nJoin us onboard OASIS — Brisbane’s ultimate floating playground\, and drift straight into your weekend. Sunshine on your skin\, cocktails in hand\, music in the air\, and the city slowly sliding by… this is where Saturdays come alive. This is YOUR Oasis. \nFrom the moment you board\, it’s all about effortless good times. Dance across multiple decks\, settle in with a signature cocktail\, or float between the levels with friends as DJs set the tone with feel-good afternoon vibes. As the sun dips and golden hour hits\, the energy builds\, the views glow\, and the afternoon settles into its best moment. \nThis is one afternoon you don’t want to miss! \nWhat to expect onboard:? Multiple levels of non-stop entertainment? Resident DJs soundtracking every moment? Handcrafted signature cocktails? Fresh\, seasonal à la carte dining? Sun-soaked decks with a fully retractable awning? Breath-taking sunset and twilight views of Brisbane \nWhether you’re celebrating with friends\, warming up for a big night out\, or chasing that perfect golden-hour moment\, Oasis Saturdays is your escape within the city. Miss it\, and you’ll hear about it all week. \nThis is YOUR Oasis. \n\n\nTHE DETAILS / OASIS SATURDAYS \nWhen: Saturday\, 16th of May 2026 \nWhere: City Botanic Gardens River Hub \nArrive: 12:25pm  \nBoarding: 12:30pm – 1:00pm  \nDisembark: 5:00pm  \n\n\n\nVIP TABLE BOOKINGS\nBook a private booth and take your OASIS experience to a whole new level\, with an exclusive space for you and your guests to enjoy. We have a number of VIP booths and packages available on all three levels of OASIS. \n \n6PAX $1\,400 VIP PACKAGE\n\n6 x Priority Boarding Tickets\nSignature Cocktail on Arrival\n1 x 700mL Belvedere Vodka\n1 x Moet Chandon Btl\n6 x Red Bulls\nUnlimited Mixers\nDedicated table\nVIP host\n\n \n10PAX $2\,200 VIP PACKAGE\n\n10 x Priority Boarding Tickets\nSignature cocktail on arrival\n2 x 700mL Belvedere Vodka\n1 x Moet Chandon Btl\n6 x Red Bulls\nUnlimited Mixers\nDedicated table\nVIP host\n\nPlease note\, there is an additional 10% Service charge applied to all table bookings \nFor VIP table package enquiries please email bookings@oasiscruising.com.au or call 07 3171 7800. \n\n\n\nBOOKINGS ESSENTIALS \nOASIS cruises are over 18’s events. Please ensure you have valid photo ID to produce on request. \nAll tickets are non-refundable. \nGeneral Admission Tickets (GA): \nFood can be purchased from our à La carte menu on board. Seating is limited and based on first-in\, first-served. You may purchase up to 10 tickets online at a time. All GA tickets are available up until 15 minutes before setting sail unless sold out. \nGA tickets allow you to move freely around the vessel\, subject to level capacity restrictions. \n\nGENERAL\nWe ask all guests to check the weather conditions and dress appropriately\, including appropriate footwear. \nSecurity reserve the right to refuse entry to any group or guest. \nFor further information or enquiries please email: bookings@oasiscruising.com.au
URL:https://oasiscruising.com.au/event/oasis-saturdays-afternoon-boat-party-saturday-16th-of-may-2026/
LOCATION:Oasis
ATTACH;FMTTYPE=image/jpeg:https://oasiscruising.com.au/wp-content/uploads/2026/01/httpscdnevbuccomimages117520945324447334982611original20260119-030140.avif
END:VEVENT
BEGIN:VEVENT
DTSTART;TZID=Australia/Brisbane:20260516T190000
DTEND;TZID=Australia/Brisbane:20260516T233000
DTSTAMP:20260420T185859
CREATED:20260420T003407Z
LAST-MODIFIED:20260420T004122Z
UID:8951-1778958000-1778974200@oasiscruising.com.au
SUMMARY:Great Gatsby Boat Party | Brisbane 16 May 2026
DESCRIPTION:Great Gatsby Boat Party | Brisbane 16 May 2026 \nTicket Price Update: Like many businesses\, we’ve felt the impact of rising costs across the board\, especially our boat hire due to increased fuel costs.As a result\, ticket prices will be increasing from tomorrow. If you’ve been thinking about coming\, now is the best time to lock in your spot at the current price. \nAutumn in Brisbane is the perfect boat party season\, and there’s no better excuse to dress in your best to experience the Great Gatsby Boat Party for a fun night out on the Brisbane River. Step into the dazzling secret world of the prohibition-era as we take you back to New York City in the 1920s for a roaring good time and perhaps even a little mischief too.. \nYou’re invited to join us at our most infamous party for one night only this May\, on Oasis Brisbane\, the crown jewel of Queensland’s riverfront nightlife. A floating paradise\, Oasis blends Gatsby-style charm with lush tropical vibes across 3 fabulous levels. Prepare to be dazzled\, delighted\, and swept off your feet! \nNow in its 11th year\, the Great Gatsby Boat Party has become Brisbane’s favourite themed boat party\, loved by guests of all ages (18+). It’s the perfect way to celebrate a birthday\, hens night\, team party or just a great excuse to dress up for a fun night with friends or that special someone. This is the night out you’ve been waiting for in 2026! \nHere’s a little sneak peek of what you can expect… \nEntertainment Highlights\nRooftop Party Deck\nParty under the open sky with DJs + live sax\, blending:\n– Gatsby classics\n– Electro-swing\n– Dance & Singalong hits from the 80s\, 90s\, 00s & today\nYes… even the ones you secretly love!\nIt’s the perfect mix for ALL ages and the ultimate rooftop dance floor. \nLower Deck – Modern Party Lounge\nThe downstairs deck heats up with a modern club-style vibe:\n– RNB\, House\, EDM and today’s biggest pop anthems \nGatsby Showgirls\nFrom burlesque stars to dazzling showgirls\, Australia’s best performers will keep the magic alive throughout the night with roaming performances. \nFun Casino Tables (middle deck)\nTry your luck with blackjack and roulette at our prohibition-style casino lounge in the middle deck\, staffed by professional dealers. *No real money is involved\, it’s all for fun. \nDrinks & Food\n\nCocktails: Sip prohibition-inspired cocktails or enjoy champagne\, fine wines\, beers\, spirits\, and all your favourites available to purchase from bars across each level.\nFood: While this isn’t a sit-down dinner cruise\, the menu is designed with parties in mind; share-friendly bites like wood-fired pizzas\, nachos\, and fried favourites available to purchase throughout the night.\n\nDress Code\nThis is your chance to go all out and embrace the glitz and glamour of the 1920s in the 2020s; think sequins\, tuxedos\, bow ties\, and everything Gatsby. Dressing up is absolutely encouraged\, but if in doubt\, just wear your best! \nThe Boat: Oasis Brisbane\nStep aboard the spectacular Oasis Brisbane\, a $10 million\, three-level luxury vessel featuring a massive retractable rooftop. Each level has its own theme\, turning the boat into a full-blown Gatsby party playground floating down the Brisbane River. \nBonus After Party\nWhen the boat docks\, the night doesn’t stop for those who still want more! Your ticket also includes exclusive entry to a huge after party at one of Brisbane’s newest clubs (venue announced soon).\n\nBOARDING & RETURN LOCATION: New Farm Park River Hub\nTIME TO ARRIVE: 6.45-7PM (ready for boarding at 7pm)\nBOARDING: 7PM-7.30PM\nTIME BOAT DEPARTS WHARF: 7.30PM\nTIME BOAT RETURNS: 11.30PM \nWhat’s Included: \n\n4 hours aboard Brisbane’s iconic 3-level boat\, Oasis Brisbane\nFun casino tables with Gatsby-style money & chips to play\n3 levels of entertainment with DJs\, live acts & roaming performers\nExclusive entry to our official after party\n\nTICKETS: Book now\, tickets are already on Final Release and will sell out! This is one of only 3 exclusive boat parties left in Brisbane in 2026. \n\nEarly Bird: 75 – SOLD OUT\nSecond Release: 85 – SOLD OUT\nFinal Release: 95 – FINAL TICKETS\n\n*Standard booking/ transaction fee will apply at checkout. \nCONTACT US\nEmail: hello@greatgatsbyboatparty.com\nFacebook: www.facebook.com/greatgatsbyboatparty\nInstagram: www.instagram.com/greatgatsbyboatparty\nMain Website: www.gatsbyboatparty.com \nThis party is 18+ only and enjoyed by all ages over 18.\nNo Refunds | ID Required | Management Reserves All Rights\nhttps://www.greatgatsbyboatparty.com/termsandconditions \nBook now\, save and get ready to step into this unforgettable night you’ve been waiting for in 2026.
URL:https://oasiscruising.com.au/event/great-gatsby-boat-party-brisbane-16-may-2026/
LOCATION:Oasis
ATTACH;FMTTYPE=image/jpeg:https://oasiscruising.com.au/wp-content/uploads/2026/04/pgmciivyate6bjyni3t5-1.avif
END:VEVENT
END:VCALENDAR