BEGIN:VCALENDAR
VERSION:2.0
PRODID:-//Oasis Cruising - ECPv6.15.20//NONSGML v1.0//EN
CALSCALE:GREGORIAN
METHOD:PUBLISH
X-WR-CALNAME:Oasis Cruising
X-ORIGINAL-URL:https://oasiscruising.com.au
X-WR-CALDESC:Events for Oasis Cruising
REFRESH-INTERVAL;VALUE=DURATION:PT1H
X-Robots-Tag:noindex
X-PUBLISHED-TTL:PT1H
BEGIN:VTIMEZONE
TZID:Australia/Brisbane
BEGIN:STANDARD
TZOFFSETFROM:+1000
TZOFFSETTO:+1000
TZNAME:AEST
DTSTART:20250101T000000
END:STANDARD
END:VTIMEZONE
BEGIN:VEVENT
DTSTART;TZID=Australia/Brisbane:20260522T190000
DTEND;TZID=Australia/Brisbane:20260522T223000
DTSTAMP:20260420T185858
CREATED:20260120T174642Z
LAST-MODIFIED:20260420T081414Z
UID:8608-1779476400-1779489000@oasiscruising.com.au
SUMMARY:OASIS City Lights Cruise - Friday 22nd May
DESCRIPTION:OASIS presents City Lights—Clock out. Step aboard. Let the city glow from the water.\n\n\n? OASIS City Lights Cruise – Friday Evening Escape ? \nFriday\, 22nd May | Brisbane River | Boarding from the Botanic Gardens River Hub \nTrade the usual Friday night routine for something a little more elevated. Oasis City Lights is your after-work escape—where good music\, flowing drinks\, and skyline views come together on the water. \nAs the sun sets and the city lights flicker on\, you’ll cruise through the night surrounded by effortless vibes\, curated sounds\, and a crowd that knows how to unwind properly. Whether you’re celebrating the week\, linking with friends\, or just trying something new\, this is where Friday night hits different. \nElevate your experience with our Lights and Bites grazing menu and Chandon Sparkling wine reserved seating packages made for sharing as you connect with your friends. \nEvery ticket includes a drink on arrival (drink card redeemable for house wine\, spirit or beer). \nWhy You Should Join Us\n? Stunning City Views – Watch the city light up around you as we glide through the heart of Brisbane under the stars. \n? Signature Cocktails & Chandon – Sip on stylish drinks crafted to help you unwind and celebrate in style. \n? Live DJ Entertainment – Dance across multiple levels to the ultimate blend of Commercial House\, Pop\, and Party Anthems\, keeping your Friday night energy high from start to finish. \nWhether you’re celebrating the end of a big week\, connecting with friends\, or just ready to party\, City Lights is your perfect transition from work to weekend. \n \nTHE DETAILS / CITY LIGHTS – Friday Night 22nd May \nWhen: Friday\, 22nd of May\, 2026 \nWhere: New Farm Park River Hub \nArrive: TBC \nBoarding: TBC \nDisembark: TBC \n(Approximate times will be 7:00-10:30pm. (Boarding times will be confirmed 4 weeks out from the event. As soon as OASIS receives confirmation from Brisbane City Council\, your times will be updated and confirmed via Eventbrite.)) \n\n\n\nVIP TABLE BOOKINGS\nBook a private booth and take your OASIS experience to a whole new level\, with an exclusive space for you and your guests to enjoy. We have a number of VIP booths and packages available on all three levels of OASIS. \n \n6PAX $1\,400 VIP PACKAGE\n6 x Priority Boarding Tickets \nSignature Cocktail on Arrival \n1 x 700mL Belvedere Vodka \n1 x Moet Chandon Btl \n6 x Red Bulls \nUnlimited Mixers \nDedicated table \nVIP host \n \n10PAX $2\,200 VIP PACKAGE\n10 x Priority Boarding Tickets \nSignature cocktail on arrival \n2 x 700mL Belvedere Vodka \n1 x Moet Chandon Btl \n6 x Red Bulls \nUnlimited Mixers \nDedicated table \nVIP host \nPlease note\, there is an additional 10% Service charge applied to all table bookings \nFor VIP table package enquiries please email bookings@oasiscruising.com.au or call 07 3171 7800. \n\n\n\nOASIS City Lights & Bites – Friday Night Food & Beverage Package! \nKick off your weekend in style with the OASIS City Lights & Bites Food & Beverage Package — the ultimate Friday night cruise experience on Brisbane River. \nFor just $99 + BF per person\, enjoy a vibrant evening onboard OASIS with priority entry\, flowing drinks\, share-style bites\, and reserved seating as the city skyline lights up around you. Designed for groups looking to relax\, socialise\, and celebrate\, this package is perfect for birthdays\, after-work drinks\, or a fun night out with friends. \nPackage Inclusions: \n\nPriority boarding tickets\n2 hours of free-flowing house beer\, wine\, and bubbles\nA Signature OASIS Cocktail on arrival\nAntipasto platter for your group. (Based on Group Size)\nDedicated reserved seating on the Middle or River Deck (subject to availability)\n\nWith curated music\, glowing city views\, and an effortlessly social atmosphere\, City Lights & Bites is the perfect way to experience Brisbane after dark — all from the water. \nAvailable on Friday night cruises only. Minimum 4 guests per booking. Limited availability — secure your spot now and elevate your Friday night plans onboard OASIS.
URL:https://oasiscruising.com.au/event/oasis-city-lights-cruise-friday-22nd-may/
LOCATION:Oasis
ATTACH;FMTTYPE=image/jpeg:https://oasiscruising.com.au/wp-content/uploads/2026/04/httpscdnevbuccomimages118237280527055762450411original20260417-003254.avif
END:VEVENT
END:VCALENDAR