BEGIN:VCALENDAR
VERSION:2.0
PRODID:-//Oasis Cruising - ECPv6.15.20//NONSGML v1.0//EN
CALSCALE:GREGORIAN
METHOD:PUBLISH
X-WR-CALNAME:Oasis Cruising
X-ORIGINAL-URL:https://oasiscruising.com.au
X-WR-CALDESC:Events for Oasis Cruising
REFRESH-INTERVAL;VALUE=DURATION:PT1H
X-Robots-Tag:noindex
X-PUBLISHED-TTL:PT1H
BEGIN:VTIMEZONE
TZID:Australia/Brisbane
BEGIN:STANDARD
TZOFFSETFROM:+1000
TZOFFSETTO:+1000
TZNAME:AEST
DTSTART:20250101T000000
END:STANDARD
END:VTIMEZONE
BEGIN:VEVENT
DTSTART;TZID=Australia/Brisbane:20260523T123000
DTEND;TZID=Australia/Brisbane:20260523T170000
DTSTAMP:20260420T224114
CREATED:20260118T170356Z
LAST-MODIFIED:20260420T123423Z
UID:8468-1779539400-1779555600@oasiscruising.com.au
SUMMARY:OASIS Saturdays - Afternoon Boat Party - Saturday\, 23rd of May 2026
DESCRIPTION:OASIS SATURDAYS – the ultimate afternoon boat party where friends\, music\, and drinks come together for the perfect weekend escape.\n\n\nJoin us onboard OASIS — Brisbane’s ultimate floating playground\, and drift straight into your weekend. Sunshine on your skin\, cocktails in hand\, music in the air\, and the city slowly sliding by… this is where Saturdays come alive. This is YOUR Oasis. \nFrom the moment you board\, it’s all about effortless good times. Dance across multiple decks\, settle in with a signature cocktail\, or float between the levels with friends as DJs set the tone with feel-good afternoon vibes. As the sun dips and golden hour hits\, the energy builds\, the views glow\, and the afternoon settles into its best moment. \nThis is one afternoon you don’t want to miss! \nWhat to expect onboard:? Multiple levels of non-stop entertainment? Resident DJs soundtracking every moment? Handcrafted signature cocktails? Fresh\, seasonal à la carte dining? Sun-soaked decks with a fully retractable awning? Breath-taking sunset and twilight views of Brisbane \nWhether you’re celebrating with friends\, warming up for a big night out\, or chasing that perfect golden-hour moment\, Oasis Saturdays is your escape within the city. Miss it\, and you’ll hear about it all week. \nThis is YOUR Oasis. \n\n\nTHE DETAILS / OASIS SATURDAYS \nWhen: Saturday\, 23rd of May 2026 \nWhere: City Botanic Gardens River Hub \nArrive: 12:15pm \nBoarding: 12:30pm – 1:00pm \nDisembark: 5:00pm \n\n\n\nVIP TABLE BOOKINGS\nBook a private booth and take your OASIS experience to a whole new level\, with an exclusive space for you and your guests to enjoy. We have a number of VIP booths and packages available on all three levels of OASIS. \n \n6PAX $1\,400 VIP PACKAGE\n\n6 x Priority Boarding Tickets\nSignature Cocktail on Arrival\n1 x 700mL Belvedere Vodka\n1 x Moet Chandon Btl\n6 x Red Bulls\nUnlimited Mixers\nDedicated table\nVIP host\n\n \n10PAX $2\,200 VIP PACKAGE\n\n10 x Priority Boarding Tickets\nSignature cocktail on arrival\n2 x 700mL Belvedere Vodka\n1 x Moet Chandon Btl\n6 x Red Bulls\nUnlimited Mixers\nDedicated table\nVIP host\n\nPlease note\, there is an additional 10% Service charge applied to all table bookings \nFor VIP table package enquiries please email bookings@oasiscruising.com.au or call 07 3171 7800. \n\n\n\nBOOKINGS ESSENTIALS \nOASIS cruises are over 18’s events. Please ensure you have valid photo ID to produce on request. \nAll tickets are non-refundable. \nGeneral Admission Tickets (GA): \nFood can be purchased from our à La carte menu on board. Seating is limited and based on first-in\, first-served. You may purchase up to 10 tickets online at a time. All GA tickets are available up until 15 minutes before setting sail unless sold out. \nGA tickets allow you to move freely around the vessel\, subject to level capacity restrictions. \n\nGENERAL\nWe ask all guests to check the weather conditions and dress appropriately\, including appropriate footwear. \nSecurity reserve the right to refuse entry to any group or guest. \nFor further information or enquiries please email: bookings@oasiscruising.com.au
URL:https://oasiscruising.com.au/event/oasis-saturdays-afternoon-boat-party-saturday-23rd-of-may-2026/
LOCATION:Oasis
ATTACH;FMTTYPE=image/jpeg:https://oasiscruising.com.au/wp-content/uploads/2026/01/httpscdnevbuccomimages117520925724447334982611original20260119-025705.avif
END:VEVENT
BEGIN:VEVENT
DTSTART;TZID=Australia/Brisbane:20260523T190000
DTEND;TZID=Australia/Brisbane:20260523T230000
DTSTAMP:20260420T224114
CREATED:20260205T150608Z
LAST-MODIFIED:20260420T123608Z
UID:8683-1779562800-1779577200@oasiscruising.com.au
SUMMARY:OASIS presents MASQUERADE Party - Saturday Night 23rd May
DESCRIPTION:A night of mystery and intrigue awaits you on board OASIS. Step into the shadows and let the night tease you…\n\n\nOASIS invites you to a Masquerade Party under the stars—where mystery lingers in every glance\, secrets hide behind velvet masks\, and the dancefloor doesn’t sleep. Slip into your favourite disguise\, sip something delicious\, and lose yourself in a night where no one is quite who they seem. \nExpect seductive beats\, electric energy\, and an atmosphere dripping with intrigue. Whether you come to flirt\, dance\, or simply disappear into the moment\, this is your invitation to let go and play.  \nSpread over OASIS’S unique multi-levels\, enjoy a night of high-energy beats across all genres—hip-hop\, R&B\, house\, pop\, throwbacks and guilty pleasures—crafted to keep you moving\, flirting\, and dancing deep into the night. No rules\, no limits\, just feel-good sounds that make for an unforgettable night out. \nWhat to expect: \nMasks encouraged. Mystery required. Best mask rewarded. Music to move you till late. A vibe that’s dark\, decadent\, and deliciously unforgettable \nCome dressed to conceal. Leave remembered.This is not just a party—it’s an experience. \n\n\nTHE DETAILS / OASIS MASQUERADE PARTYWhen: Saturday\, 23rd of May 2026 \nWhere: Botanic Gardens River Hub \nArrive: 6:45pm  \nBoarding: 7:00pm – 7:30pm \nDisembark: 11:00pm \n\n\n\nVIP TABLE BOOKINGS\nBook a private booth and take your OASIS experience to a whole new level\, with an exclusive space for you and your guests to enjoy. We have a number of VIP booths and packages available on all three levels of OASIS. \n6PAX $1\,400 VIP PACKAGE\n\n6 x Priority Boarding Tickets\n1 x 700mL Belvedere Vodka\n1 x Moet Chandon Btl\n6 x Red Bulls\nUnlimited Mixers\nDedicated table\nVIP host\n\n10PAX $2\,200 VIP PACKAGE\n\n10 x Priority Boarding Tickets\nSignature cocktail on arrival\n2 x 700mL Belvedere Vodka\n2 x Moet Chandon Btl\n10 x Red Bulls\nUnlimited Mixers\nDedicated table\nVIP host\n\n \nPREMIER 10PAX $3000 VIP PACKAGE\n\n10 x Priority Boarding Tickets\nSignature cocktails on arrival\n1 x 3L Belvedere Vodka\n1 x Dom Perignon Btl\n4 x Red Bulls\nUnlimited Mixers\nDedicated table\nVIP host\n\nPlease note\, there is an additional 10% Service charge applied to all table bookings \nFor VIP table package enquiries please email bookings@oasiscruising.com.au or call 07 3171 7800. \n\n\nBOOKINGS ESSENTIALS \nOASIS cruises are over 18’s events. Please ensure you have valid photo ID to produce on request. \nAll tickets are non-refundable. \nGeneral Admission Tickets (GA): \nFood can be purchased from our à La carte menu on board. Seating is limited and based on first-in\, first-served. You may purchase up to 10 tickets online at a time. All GA tickets are available up until 15 minutes before setting sail unless sold out. \nGA tickets allow you to move freely around the vessel\, subject to level capacity restrictions. \n\nGENERAL\nWe ask all guests to check the weather conditions and dress appropriately\, including appropriate footwear. \nSecurity reserve the right to refuse entry to any group or guest. \nFor further information or enquiries please email: bookings@oasiscruising.com.au
URL:https://oasiscruising.com.au/event/oasis-presents-masquerade-party-saturday-night-23rd-may/
LOCATION:Oasis
ATTACH;FMTTYPE=image/jpeg:https://oasiscruising.com.au/wp-content/uploads/2026/02/httpscdnevbuccomimages117684193124447334982611original20260206-014457.avif
END:VEVENT
END:VCALENDAR