BEGIN:VCALENDAR
VERSION:2.0
PRODID:-//Oasis Cruising - ECPv6.15.20//NONSGML v1.0//EN
CALSCALE:GREGORIAN
METHOD:PUBLISH
X-ORIGINAL-URL:https://oasiscruising.com.au
X-WR-CALDESC:Events for Oasis Cruising
REFRESH-INTERVAL;VALUE=DURATION:PT1H
X-Robots-Tag:noindex
X-PUBLISHED-TTL:PT1H
BEGIN:VTIMEZONE
TZID:Australia/Brisbane
BEGIN:STANDARD
TZOFFSETFROM:+1000
TZOFFSETTO:+1000
TZNAME:AEST
DTSTART:20250101T000000
END:STANDARD
END:VTIMEZONE
BEGIN:VEVENT
DTSTART;TZID=Australia/Brisbane:20260530T123000
DTEND;TZID=Australia/Brisbane:20260530T170000
DTSTAMP:20260420T185955
CREATED:20260323T162228Z
LAST-MODIFIED:20260420T083623Z
UID:8853-1780144200-1780160400@oasiscruising.com.au
SUMMARY:OASIS & Harry K presents SPLASH OUT: PRIDE CRUISE - SAT 30th May
DESCRIPTION:Brisbane\, get ready! SPLASH OUT is back with our PRIDE CRUISE\, kicking off International Pride season with a full-scale party on the river!\n\n\nBrisbane\, get ready! SPLASH OUT is back with our PRIDE CRUISE\, kicking off International Pride season with a full-scale party on the Brisbane River. \nStep aboard OASIS and get ready for multiple levels of music\, DJs\, drag and non-stop energy from the moment we board. Sun on the deck\, drinks flowing\, dancefloor pumping! This is how we start PRIDE right here in Brisbane. \nThis is your official PRIDE warm-up party so round up your crew\, sort out your looks and get ready to PARTY! \nWhat to expect onboard:? Multiple levels of non-stop entertainment? DJs soundtracking every moment? Handcrafted signature cocktails? Fresh\, seasonal à la carte dining? Sun-soaked decks with a fully retractable awning? Breath-taking sunset and twilight views of Brisbane \n\n\nTHE DETAILS / OASIS x HARRY K SPLASH OUT PRIDE CRUISE \nWhen: Saturday\, 30th of May 2026 \nWhere: City Botanic Gardens River Hub \nArrive: TBC \nBoarding: TBC \nDisembark: TBC \n(Approximate times will be 1:00-5:00pm. (Boarding times will be confirmed 4 weeks out from the event. As soon as OASIS receives confirmation from Brisbane City Council\, your times will be updated and confirmed via Eventbrite.)) \n\n\n\nVIP TABLE BOOKINGS\nBook a private booth and take your OASIS experience to a whole new level\, with an exclusive space for you and your guests to enjoy. We have a number of VIP booths and packages available on all three levels of OASIS. \n \n6PAX $1\,600 VIP PACKAGE\n\n6 x Priority Boarding Tickets\nSignature Cocktail on Arrival\n1 x 700mL Belvedere Vodka\n1 x Moet Chandon Btl\n6 x Red Bulls\nUnlimited Mixers\nDedicated table\nVIP host\n\n \n10PAX $2\,400 VIP PACKAGE\n\n10 x Priority Boarding Tickets\nSignature cocktail on arrival\n2 x 700mL Belvedere Vodka\n1 x Moet Chandon Btl\n6 x Red Bulls\nUnlimited Mixers\nDedicated table\nVIP host\n\nPlease note\, there is an additional 10% Service charge applied to all table bookings \nFor VIP table package enquiries please email bookings@oasiscruising.com.au or call 07 3171 7800. \n\n\n\nBOOKINGS ESSENTIALS \nOASIS cruises are over 18’s events. Please ensure you have valid photo ID to produce on request. \nAll tickets are non-refundable. \nGeneral Admission Tickets (GA): \nFood can be purchased from our à La carte menu on board. Seating is limited and based on first-in\, first-served. You may purchase up to 10 tickets online at a time. All GA tickets are available up until 15 minutes before setting sail unless sold out. \nGA tickets allow you to move freely around the vessel\, subject to level capacity restrictions. \n\nGENERAL\nWe ask all guests to check the weather conditions and dress appropriately\, including appropriate footwear. \nSecurity reserve the right to refuse entry to any group or guest. \nFor further information or enquiries please email: bookings@oasiscruising.com.au
URL:https://oasiscruising.com.au/event/oasis-harry-k-presents-splash-out-pride-cruise-sat-30th-may/
LOCATION:Oasis
ATTACH;FMTTYPE=image/jpeg:https://oasiscruising.com.au/wp-content/uploads/2026/03/httpscdnevbuccomimages118053037224447334982611original20260324-022440-scaled.avif
END:VEVENT
BEGIN:VEVENT
DTSTART;TZID=Australia/Brisbane:20260530T190000
DTEND;TZID=Australia/Brisbane:20260530T233000
DTSTAMP:20260420T185955
CREATED:20260207T114653Z
LAST-MODIFIED:20260420T075913Z
UID:8692-1780167600-1780183800@oasiscruising.com.au
SUMMARY:OASIS presents UP LATE  - Saturday Night 30th May 2026
DESCRIPTION:OASIS: UP LATE — a floating party after dark. DJs\, city lights\, open-air decks and late-night beats. Dance under the stars!\n\n\nOASIS PRESENTS: UP LATE an after-dark escape where music\, movement\, and moonlight collide. Set on the water and stretching late into the night\, this is a space to drift away from the ordinary and lose yourself in rhythm. Think shimmering reflections\, cool night air\, and a dance floor that pulses beneath the open sky. \nOur resident DJs guide the energy from slow-burn grooves to euphoric late-night highs\, covering club anthems\, house\, RnB and chart toppers\, guiding you on the multi level dance floor underneath the stars and to the city lights glow. \nCome dressed to move. Stay up late. \n\nTop Deck: Dance under the stars to a curated mix of house\, club anthems & disco.\nRiver Deck: Head below for RnB\, chart-toppers & dance hits in a space pulsing with street-style energy.\n\nWhether you’re soaking in skyline views on the top deck or vibing to beats below\, welcome to OASIS: UP LATE—the party that floats. \n\n\nTHE DETAILS / OASIS UP LATEWhen: Saturday 30th of May 2026 \nWhere: City Botanic Gardens River Hub \nArrive: 6:45pm \nBoarding: 7:00pm – 7:30pm \nDisembark: 11:00pm \n\n\n\nVIP TABLE BOOKINGS\nBook a private booth and take your OASIS experience to a whole new level\, with an exclusive space for you and your guests to enjoy. We have a number of VIP booths and packages available on all three levels of OASIS. \n6PAX $1\,400 VIP PACKAGE\n\n6 x Priority Boarding Tickets\n1 x 700mL Belvedere Vodka\n1 x Moet Chandon Btl\n6 x Red Bulls\nUnlimited Mixers\nDedicated table\nVIP host\n\n10PAX $2\,200 VIP PACKAGE\n\n10 x Priority Boarding Tickets\nSignature cocktail on arrival\n2 x 700mL Belvedere Vodka\n2 x Moet Chandon Btl\n10 x Red Bulls\nUnlimited Mixers\nDedicated table\nVIP host\n\nPlease note\, there is an additional 10% Service charge applied to all table bookings \nFor VIP table package enquiries please email bookings@oasiscruising.com.au or call 07 3171 7800. \n\n\nBOOKINGS ESSENTIALS \nOASIS cruises are over 18’s events. Please ensure you have valid photo ID to produce on request. \nAll tickets are non-refundable. \nGeneral Admission Tickets (GA): \nFood can be purchased from our à La carte menu on board. Seating is limited and based on first-in\, first-served. You may purchase up to 10 tickets online at a time. All GA tickets are available up until 15 minutes before setting sail unless sold out. \nGA tickets allow you to move freely around the vessel\, subject to level capacity restrictions. \n\nGENERAL\nWe ask all guests to check the weather conditions and dress appropriately\, including appropriate footwear. \nSecurity reserve the right to refuse entry to any group or guest. \nFor further information or enquiries please email: bookings@oasiscruising.com.au
URL:https://oasiscruising.com.au/event/oasis-presents-up-late-saturday-night-30th-may-2026/
LOCATION:Oasis
ATTACH;FMTTYPE=image/jpeg:https://oasiscruising.com.au/wp-content/uploads/2026/02/httpscdnevbuccomimages117780810324447334982611original20260218-070621.jpeg
END:VEVENT
END:VCALENDAR